BEGIN:VCALENDAR
VERSION:2.0
PRODID:-//Tukios.com/
BEGIN:VEVENT
UID:ae463556-e118-4c82-a525-13cac7ac5a18@www.ripepi.com
DTSTAMP:20260421T005337Z
DTSTART:20260426T170000Z
DTEND:20260426T210000Z
SUMMARY:Visitation
DESCRIPTION:
URL:https://www.ripepi.com/obituaries/barbara-martinson
LOCATION:Ripepi Funeral Home 5762 Pearl Rd  Cleveland OH 44129
GEO:41.4058805;-81.7434498
END:VEVENT
END:VCALENDAR