BEGIN:VCALENDAR
VERSION:2.0
PRODID:-//Tukios.com/
BEGIN:VEVENT
UID:0c660848-8b1b-472e-9554-84000413dc5d@www.ripepi.com
DTSTAMP:20260421T010231Z
DTSTART:20260427T150000Z
DTEND:20260427T160000Z
SUMMARY:Funeral Service
DESCRIPTION:
URL:https://www.ripepi.com/obituaries/barbara-martinson
LOCATION:Brunswick Reformed Church 3535 Grafton Road  Brunswick OH 44212
GEO:41.2616565;-81.8135121
END:VEVENT
END:VCALENDAR