BEGIN:VCALENDAR
VERSION:2.0
PRODID:-//Tukios.com/
BEGIN:VEVENT
UID:e8be302c-0e03-4671-93b7-a47d5b7baa1b@www.ripepi.com
DTSTAMP:20260424T195142Z
DTSTART:20260509T190000Z
DTEND:20260509T220000Z
SUMMARY:Celebration of Life
DESCRIPTION:
URL:https://www.ripepi.com/obituaries/carol-aitchison
LOCATION: 5784 Pearl Road  Parma OH 44129
GEO:41.4057154;-81.7441005
END:VEVENT
END:VCALENDAR