BEGIN:VCALENDAR
VERSION:2.0
PRODID:-//Tukios.com/
BEGIN:VEVENT
UID:af357fc3-7cb2-42bc-9c7d-c0b9a1d24651@www.ripepi.com
DTSTAMP:20260424T194707Z
DTSTART:20260509T210000Z
DTEND:20260509T220000Z
SUMMARY:Other
DESCRIPTION:
URL:https://www.ripepi.com/obituaries/carol-aitchison
LOCATION: 5784 Pearl Road  Parma OH 44129
GEO:41.4057154;-81.7441005
END:VEVENT
END:VCALENDAR