BEGIN:VCALENDAR
VERSION:2.0
PRODID:-//Tukios.com/
BEGIN:VEVENT
UID:a350ed9c-5661-4c5f-9ab1-0a66a8555334@www.ripepi.com
DTSTAMP:20260423T013743Z
DTSTART:20260424T200000Z
DTEND:20260424T230000Z
SUMMARY:Visitation
DESCRIPTION:
URL:https://www.ripepi.com/obituaries/christine-utlak
LOCATION:The Ripepi Funeral Home 5762 Pearl Rd.  Parma OH 44129
GEO:41.4058805;-81.7434498
END:VEVENT
END:VCALENDAR