BEGIN:VCALENDAR
VERSION:2.0
PRODID:-//Tukios.com/
BEGIN:VEVENT
UID:508a9e45-a545-4b70-a79a-4179b664da97@www.ripepi.com
DTSTAMP:20260425T213404Z
DTSTART:20260504T200000Z
DTEND:20260505T000000Z
SUMMARY:Celebration of Life
DESCRIPTION:
URL:https://www.ripepi.com/obituaries/ian-mackinnon-iipa
LOCATION:Ripepi Funeral Home 5762 Pearl Rd  Cleveland OH 44129
GEO:41.4058805;-81.7434498
END:VEVENT
END:VCALENDAR