BEGIN:VCALENDAR
VERSION:2.0
PRODID:-//Tukios.com/
BEGIN:VEVENT
UID:b60a3f20-22cb-4504-9fe9-63cc8a5de47b@www.ripepi.com
DTSTAMP:20260424T223457Z
DTSTART:20260429T140000Z
DTEND:20260429T150000Z
SUMMARY:Mass
DESCRIPTION:
URL:https://www.ripepi.com/obituaries/joanne-simpson
LOCATION:St. Columbkille Church 6740 Broadview Road  Parma OH 44134
GEO:41.3823135;-81.6861418
END:VEVENT
END:VCALENDAR