BEGIN:VCALENDAR
VERSION:2.0
PRODID:-//Tukios.com/
BEGIN:VEVENT
UID:dfde8c8b-876d-4238-8c18-f46d41ceacca@www.ripepi.com
DTSTAMP:20260419T215230Z
DTSTART:20260424T143000Z
DTEND:20260424T153000Z
SUMMARY:Mass
DESCRIPTION:
URL:https://www.ripepi.com/obituaries/maria-lovano
LOCATION:St. Leo the Great Church 4940 Broadview Rd  Cleveland OH 44109
GEO:41.4222785;-81.6968746
END:VEVENT
END:VCALENDAR