BEGIN:VCALENDAR
VERSION:2.0
PRODID:-//Tukios.com/
BEGIN:VEVENT
UID:f9445898-a30f-4030-94a9-92144845bead@www.ripepi.com
DTSTAMP:20260419T215358Z
DTSTART:20260423T180000Z
DTEND:20260423T200000Z
SUMMARY:Visitation
DESCRIPTION:
URL:https://www.ripepi.com/obituaries/maria-lovano
LOCATION:Ripepi Funeral Home 5762 Pearl Rd  Cleveland OH 44129
GEO:41.4058805;-81.7434498
END:VEVENT
END:VCALENDAR