BEGIN:VCALENDAR
VERSION:2.0
PRODID:-//Tukios.com/
BEGIN:VEVENT
UID:c4d478a5-e908-40d5-9eef-23649fbe192b@www.ripepi.com
DTSTAMP:20260419T215055Z
DTSTART:20260423T220000Z
DTEND:20260424T000000Z
SUMMARY:Visitation
DESCRIPTION:
URL:https://www.ripepi.com/obituaries/maria-lovano
LOCATION:Ripepi Funeral Home 5762 Pearl Rd  Cleveland OH 44129
GEO:41.4058805;-81.7434498
END:VEVENT
END:VCALENDAR