BEGIN:VCALENDAR
VERSION:2.0
PRODID:-//Tukios.com/
BEGIN:VEVENT
UID:fc5df798-7545-4ad9-9847-620c6611ed23@www.ripepi.com
DTSTAMP:20260420T220757Z
DTSTART:20260424T143000Z
DTEND:20260424T153000Z
SUMMARY:Visitation
DESCRIPTION:
URL:https://www.ripepi.com/obituaries/rita-pence
LOCATION: 5762 Pearl Rd  Cleveland OH 44129
GEO:41.4058805;-81.7434498
END:VEVENT
END:VCALENDAR