BEGIN:VCALENDAR
VERSION:2.0
PRODID:-//Tukios.com/
BEGIN:VEVENT
UID:8f388620-08a4-4651-8748-9e2e96a5dab5@www.ripepi.com
DTSTAMP:20260420T220053Z
DTSTART:20260424T153000Z
DTEND:20260424T163000Z
SUMMARY:Funeral Service
DESCRIPTION:
URL:https://www.ripepi.com/obituaries/rita-pence
LOCATION:The Ripepi Funeral Home 5762 Pearl Rd.  Parma OH 44129
GEO:41.4058805;-81.7434498
END:VEVENT
END:VCALENDAR