BEGIN:VCALENDAR
VERSION:2.0
PRODID:-//Tukios.com/
BEGIN:VEVENT
UID:0ccfb056-0d3c-44b6-a7cc-af7f5f7f15ae@www.ripepi.com
DTSTAMP:20260423T205231Z
DTSTART:20260427T220000Z
DTEND:20260428T000000Z
SUMMARY:Celebration of Life
DESCRIPTION:
URL:https://www.ripepi.com/obituaries/robert-neale
LOCATION:The Ripepi Community Center 5784 Pearl Road  Parma OH 44129
GEO:41.4057154;-81.7441005
END:VEVENT
END:VCALENDAR