BEGIN:VCALENDAR
VERSION:2.0
PRODID:-//Tukios.com/
BEGIN:VEVENT
UID:49ed03ca-5c88-4e05-8ab3-95ad5fd805e4@www.ripepi.com
DTSTAMP:20260423T204917Z
DTSTART:20260427T231500Z
DTEND:20260428T001500Z
SUMMARY:Words of Remembrance
DESCRIPTION:
URL:https://www.ripepi.com/obituaries/robert-neale
LOCATION: 5784 Pearl Road  Parma OH 44129
GEO:41.4057154;-81.7441005
END:VEVENT
END:VCALENDAR