BEGIN:VCALENDAR
VERSION:2.0
PRODID:-//Tukios.com/
BEGIN:VEVENT
UID:9560d006-6e89-4eae-9e73-feeab2c8a755@www.ripepi.com
DTSTAMP:20260422T212537Z
DTSTART:20260425T140000Z
DTEND:20260425T150000Z
SUMMARY:Mass
DESCRIPTION:
URL:https://www.ripepi.com/obituaries/talka-tobia
LOCATION:St. Maron Church 1245 Carnegie Ave  Cleveland OH 44115
GEO:41.4969152;-81.6809754
END:VEVENT
END:VCALENDAR