BEGIN:VCALENDAR
VERSION:2.0
PRODID:-//Tukios.com/
BEGIN:VEVENT
UID:06eedf75-3561-4080-ae95-1ba8f17abb12@www.ripepi.com
DTSTAMP:20260426T012145Z
DTSTART:20260428T160000Z
DTEND:20260428T180000Z
SUMMARY:Celebration of Life
DESCRIPTION:
URL:https://www.ripepi.com/obituaries/toneshwar-persaud
LOCATION:The Ripepi Funeral Home 5762 Pearl Rd.  Parma OH 44129
GEO:41.4058805;-81.7434498
END:VEVENT
END:VCALENDAR